BEGIN:VCALENDAR
VERSION:2.0
PRODID:https://www.eco.de/event/strategischer-ausblick-auf-den-tk-markt/
BEGIN:VEVENT
UID:29368
DTSTAMP:20260422T100811
DTSTART:20170920T153000
DTEND:20170920T000000
SUMMARY:Strategischer Ausblick auf den TK-Markt
LOCATION:PricewaterhouseCoopers\, Friedrich-Ebert-Anlage 37\, 60325 Frankfurt am Main
ORGANIZER:eco
URL:https://www.eco.de/event/strategischer-ausblick-auf-den-tk-markt/
DESCRIPTION:Strategischer Ausblick auf den TK-Markt
END:VEVENT
END:VCALENDAR
