BEGIN:VCALENDAR
VERSION:2.0
PRODID:https://www.eco.de/event/openstack-grundlagen-workshop-koeln/
BEGIN:VEVENT
UID:29416
DTSTAMP:20260422T095837
DTSTART:20170920T093000
DTEND:20170920T123000
SUMMARY:OpenStack Grundlagen Workshop (Köln)
LOCATION:eco Kubus\, Lichtstraße 43i\, 50825 Köln
ORGANIZER:eco
URL:https://www.eco.de/event/openstack-grundlagen-workshop-koeln/
DESCRIPTION:OpenStack Grundlagen Workshop (Köln)
END:VEVENT
END:VCALENDAR
