BEGIN:VCALENDAR
VERSION:2.0
PRODID:https://www.eco.de/event/openstack-grundlagen-workshop-frankfurt/
BEGIN:VEVENT
UID:29439
DTSTAMP:20260422T080219
DTSTART:20170926T093000
DTEND:20170926T123000
SUMMARY:OpenStack Grundlagen Workshop (Frankfurt)
LOCATION:DE-CIX Meeting Center\, Lindleystraße 12\, 60314 Frankfurt am Main
ORGANIZER:eco
URL:https://www.eco.de/event/openstack-grundlagen-workshop-frankfurt/
DESCRIPTION:OpenStack Grundlagen Workshop (Frankfurt)
END:VEVENT
END:VCALENDAR
