BEGIN:VCALENDAR
VERSION:2.0
PRODID:https://www.eco.de/event/passagen-2017/
BEGIN:VEVENT
UID:29557
DTSTAMP:20260423T113510
DTSTART:20170116T000000
DTEND:20170122T000000
SUMMARY:PASSAGEN 2017
LOCATION:eco e.V. - Kubus\, Lichtstraße 43i\, 50825 Köln
ORGANIZER:eco
URL:https://www.eco.de/event/passagen-2017/
DESCRIPTION:PASSAGEN 2017
END:VEVENT
END:VCALENDAR
