BEGIN:VCALENDAR
VERSION:2.0
PRODID:https://www.eco.de/event/eco-rz-strategietalk-wien/
BEGIN:VEVENT
UID:30083
DTSTAMP:20260422T160515
DTSTART:20170518T130000
DTEND:20170519T000000
SUMMARY:eco RZ-StrategieTalk – Wien
LOCATION:Rechenzentrum der Stadt Wien GmbH\, Stadlauerstraße 56\, 1220 Wien
ORGANIZER:eco
URL:https://www.eco.de/event/eco-rz-strategietalk-wien/
DESCRIPTION:eco RZ-StrategieTalk – Wien
END:VEVENT
END:VCALENDAR
