BEGIN:VCALENDAR
VERSION:2.0
PRODID:https://www.eco.de/event/das-eco-5-sterne-rechenzentrum-breakfast-muenchen/
BEGIN:VEVENT
UID:31166
DTSTAMP:20260422T045225
DTSTART:20171004T100000
DTEND:20171004T130000
SUMMARY:Das eco 5 Sterne Rechenzentrum – Breakfast München
LOCATION:Schuhbecks Orlando\, Platzl 4\, 80331 München
ORGANIZER:eco
URL:https://www.eco.de/event/das-eco-5-sterne-rechenzentrum-breakfast-muenchen/
DESCRIPTION:Das eco 5 Sterne Rechenzentrum – Breakfast München
END:VEVENT
END:VCALENDAR
