BEGIN:VCALENDAR
VERSION:2.0
PRODID:https://www.eco.de/event/iot-future-trends/
BEGIN:VEVENT
UID:31378
DTSTAMP:20260426T035416
DTSTART:20171123T130000
DTEND:20171123T180000
SUMMARY:IoT Future Trends
LOCATION:Filmforum NRW e.V. im Museum Ludwig\, Bischofsgartenstr. 1\, 50667 Köln
ORGANIZER:eco
URL:https://www.eco.de/event/iot-future-trends/
DESCRIPTION:IoT Future Trends
END:VEVENT
END:VCALENDAR
