BEGIN:VCALENDAR
VERSION:2.0
PRODID:https://www.eco.de/event/datacenter-day-2017/
BEGIN:VEVENT
UID:32701
DTSTAMP:20260422T000519
DTSTART:20171024T000000
DTEND:20171024T000000
SUMMARY:Datacenter Day 2017
LOCATION:Vogel Convention Center\, Max-Planck-Straße 7-9\,\, 97064 Würzburg
ORGANIZER:eco
URL:https://www.eco.de/event/datacenter-day-2017/
DESCRIPTION:Datacenter Day 2017
END:VEVENT
END:VCALENDAR
