BEGIN:VCALENDAR
VERSION:2.0
PRODID:https://www.eco.de/event/25h-wien-wien-ist-it/
BEGIN:VEVENT
UID:35328
DTSTAMP:20260421T152208
DTSTART:20171204T120000
DTEND:20171205T130000
SUMMARY:25h Wien - Wien ist IT
LOCATION:Expat Center\, Schmerlingplatz 3\, 1010 Wien
ORGANIZER:eco
URL:https://www.eco.de/event/25h-wien-wien-ist-it/
DESCRIPTION:25h Wien - Wien ist IT
END:VEVENT
END:VCALENDAR
