BEGIN:VCALENDAR
VERSION:2.0
PRODID:https://www.eco.de/event/icann-high-level-briefing/
BEGIN:VEVENT
UID:36588
DTSTAMP:20260421T125830
DTSTART:20171114T153000
DTEND:20171114T173000
SUMMARY:ICANN High Level Briefing
LOCATION:eco — Hauptstadtbüro Berlin\, Französische Straße 48\, 10117 Berlin
ORGANIZER:eco
URL:https://www.eco.de/event/icann-high-level-briefing/
DESCRIPTION:ICANN High Level Briefing
END:VEVENT
END:VCALENDAR
