BEGIN:VCALENDAR
VERSION:2.0
PRODID:https://www.eco.de/event/konferenz-domain-pulse-2017/
BEGIN:VEVENT
UID:3661
DTSTAMP:20260421T172717
DTSTART:20170216T000000
DTEND:20170217T000000
SUMMARY:Konferenz: Domain pulse 2017
LOCATION:
ORGANIZER:eco
URL:https://www.eco.de/event/konferenz-domain-pulse-2017/
DESCRIPTION:Konferenz: Domain pulse 2017
END:VEVENT
END:VCALENDAR
