BEGIN:VCALENDAR
VERSION:2.0
PRODID:https://www.eco.de/event/mitgliederversammlung-eco-e-v-2017/
BEGIN:VEVENT
UID:37336
DTSTAMP:20260426T005847
DTSTART:20171124T003000
DTEND:20171124T173000
SUMMARY:Mitgliederversammlung eco e.V. 2017
LOCATION:
ORGANIZER:eco
URL:https://www.eco.de/event/mitgliederversammlung-eco-e-v-2017/
DESCRIPTION:Mitgliederversammlung eco e.V. 2017
END:VEVENT
END:VCALENDAR
