BEGIN:VCALENDAR
VERSION:2.0
PRODID:https://www.eco.de/event/hands-on-container-workshop-stuttgart/
BEGIN:VEVENT
UID:37719
DTSTAMP:20260421T104248
DTSTART:20180301T100000
DTEND:20180302T170000
SUMMARY:Hands-on Container Workshop – Stuttgart
LOCATION:tba\, \,  Stuttgart
ORGANIZER:eco
URL:https://www.eco.de/event/hands-on-container-workshop-stuttgart/
DESCRIPTION:Hands-on Container Workshop – Stuttgart
END:VEVENT
END:VCALENDAR
