BEGIN:VCALENDAR
VERSION:2.0
PRODID:https://www.eco.de/event/hands-on-container-workshop-muenchen/
BEGIN:VEVENT
UID:37723
DTSTAMP:20260421T013821
DTSTART:20180426T100000
DTEND:20180427T170000
SUMMARY:Hands-on Container Workshop – München
LOCATION:Kultion Factory\, Westendstraße 123\, 80339 München
ORGANIZER:eco
URL:https://www.eco.de/event/hands-on-container-workshop-muenchen/
DESCRIPTION:Hands-on Container Workshop – München
END:VEVENT
END:VCALENDAR
