BEGIN:VCALENDAR
VERSION:2.0
PRODID:https://www.eco.de/event/christmas-joy-2018/
BEGIN:VEVENT
UID:38179
DTSTAMP:20260420T082306
DTSTART:20181212T160000
DTEND:20181212T190000
SUMMARY:Christmas Joy 2018
LOCATION:Schuhbecks Orlando\, Platzl 4\, 80331 München
ORGANIZER:eco
URL:https://www.eco.de/event/christmas-joy-2018/
DESCRIPTION:Christmas Joy 2018
END:VEVENT
END:VCALENDAR
