BEGIN:VCALENDAR
VERSION:2.0
PRODID:https://www.eco.de/event/e-mail-adressen-gehegt-und-gepflegt-oder-verraten-und-verkauft/
BEGIN:VEVENT
UID:3981
DTSTAMP:20260421T163445
DTSTART:20020514T000000
DTEND:20020514T000000
SUMMARY:E-Mail-Adressen - Gehegt und gepflegt oder verraten und verkauft?
LOCATION:
ORGANIZER:eco
URL:https://www.eco.de/event/e-mail-adressen-gehegt-und-gepflegt-oder-verraten-und-verkauft/
DESCRIPTION:E-Mail-Adressen - Gehegt und gepflegt oder verraten und verkauft?
END:VEVENT
END:VCALENDAR
