BEGIN:VCALENDAR
VERSION:2.0
PRODID:https://www.eco.de/event/en50600-daten-verkabelung-im-rechenzentrum/
BEGIN:VEVENT
UID:40360
DTSTAMP:20260421T090502
DTSTART:20180306T130000
DTEND:20180306T170000
SUMMARY:EN50600 – Datenverkabelung im Rechenzentrum
LOCATION:eco Hauptstadtbüro Berlin\, Französische Straße 48\, 10117 Berlin
ORGANIZER:eco
URL:https://www.eco.de/event/en50600-daten-verkabelung-im-rechenzentrum/
DESCRIPTION:EN50600 – Datenverkabelung im Rechenzentrum
END:VEVENT
END:VCALENDAR
