BEGIN:VCALENDAR
VERSION:2.0
PRODID:https://www.eco.de/event/eco-kongress-2014/
BEGIN:VEVENT
UID:4389
DTSTAMP:20260424T070025
DTSTART:20141119T090000
DTEND:20141119T000000
SUMMARY:eco Kongress 2014
LOCATION:
ORGANIZER:eco
URL:https://www.eco.de/event/eco-kongress-2014/
DESCRIPTION:eco Kongress 2014
END:VEVENT
END:VCALENDAR
