BEGIN:VCALENDAR
VERSION:2.0
PRODID:https://www.eco.de/event/eco-i2coalition-webinar-icann-contracted-party-gdpr-compliance/
BEGIN:VEVENT
UID:44014
DTSTAMP:20260421T125114
DTSTART:20180209T150000
DTEND:20180209T163000
SUMMARY:eco & i2Coalition Webinar: ICANN Contracted Party GDPR Compliance
LOCATION:
ORGANIZER:eco
URL:https://www.eco.de/event/eco-i2coalition-webinar-icann-contracted-party-gdpr-compliance/
DESCRIPTION:eco & i2Coalition Webinar: ICANN Contracted Party GDPR Compliance
END:VEVENT
END:VCALENDAR
