BEGIN:VCALENDAR
VERSION:2.0
PRODID:https://www.eco.de/event/allianz-zur-staerkung-digitaler-infrastrukturen-in-deutschland/
BEGIN:VEVENT
UID:47996
DTSTAMP:20260421T052814
DTSTART:20180410T133000
DTEND:20180410T180000
SUMMARY:Allianz zur Stärkung Digitaler Infrastrukturen in Deutschland
LOCATION:DE-CIX Meeting Center\, Lindleytraße 12\, 60314 Frankfurt
ORGANIZER:eco
URL:https://www.eco.de/event/allianz-zur-staerkung-digitaler-infrastrukturen-in-deutschland/
DESCRIPTION:Allianz zur Stärkung Digitaler Infrastrukturen in Deutschland
END:VEVENT
END:VCALENDAR
