BEGIN:VCALENDAR
VERSION:2.0
PRODID:https://www.eco.de/event/anga-com-2018/
BEGIN:VEVENT
UID:59171
DTSTAMP:20260421T012702
DTSTART:20180612T090000
DTEND:20180614T180000
SUMMARY:ANGA COM 2018
LOCATION:Messe Köln\, Messeplatz 1\, 50679 Köln
ORGANIZER:eco
URL:https://www.eco.de/event/anga-com-2018/
DESCRIPTION:ANGA COM 2018
END:VEVENT
END:VCALENDAR
