BEGIN:VCALENDAR
VERSION:2.0
PRODID:https://www.eco.de/event/eco-gala-internet-awards-2015-7/
BEGIN:VEVENT
UID:6389
DTSTAMP:20260426T043051
DTSTART:20150625T000000
DTEND:20260426T043051
SUMMARY:eco Gala & Internet Awards 2015
LOCATION:
ORGANIZER:eco
URL:https://www.eco.de/event/eco-gala-internet-awards-2015-7/
DESCRIPTION:eco Gala & Internet Awards 2015
END:VEVENT
END:VCALENDAR
