BEGIN:VCALENDAR
VERSION:2.0
PRODID:https://www.eco.de/event/exklusiver-politik-roundtable-mit-pressefruehstueck/
BEGIN:VEVENT
UID:64787
DTSTAMP:20260424T214229
DTSTART:20180612T100000
DTEND:20180612T120000
SUMMARY:Exklusiver Politik-Roundtable mit Pressefrühstück
LOCATION:eco Hauptstadtbüro\, Französische Straße 48\, 10117 Berlin
ORGANIZER:eco
URL:https://www.eco.de/event/exklusiver-politik-roundtable-mit-pressefruehstueck/
DESCRIPTION:Exklusiver Politik-Roundtable mit Pressefrühstück
END:VEVENT
END:VCALENDAR
