BEGIN:VCALENDAR
VERSION:2.0
PRODID:https://www.eco.de/event/staraudit-training-2/
BEGIN:VEVENT
UID:65852
DTSTAMP:20260421T090556
DTSTART:20180925T000000
DTEND:20180926T000000
SUMMARY:StarAudit Training
LOCATION:eco Kubus\, Lichtstr. 43i\, 50825 Köln
ORGANIZER:eco
URL:https://www.eco.de/event/staraudit-training-2/
DESCRIPTION:StarAudit Training
END:VEVENT
END:VCALENDAR
