BEGIN:VCALENDAR
VERSION:2.0
PRODID:https://www.eco.de/event/uba-fachkonferenz-eco-upgrade-for-data-services/
BEGIN:VEVENT
UID:66523
DTSTAMP:20260420T215956
DTSTART:20180829T093000
DTEND:20180829T163000
SUMMARY:UBA Fachkonferenz "Eco Upgrade for Data Services"
LOCATION:Kap Europa\, Osloer Str. 5\, 60327 Frankfurt am Main
ORGANIZER:eco
URL:https://www.eco.de/event/uba-fachkonferenz-eco-upgrade-for-data-services/
DESCRIPTION:UBA Fachkonferenz "Eco Upgrade for Data Services"
END:VEVENT
END:VCALENDAR
