BEGIN:VCALENDAR
VERSION:2.0
PRODID:https://www.eco.de/event/digital-futurecongress-2/
BEGIN:VEVENT
UID:66547
DTSTAMP:20260420T122158
DTSTART:20181108T000000
DTEND:20181108T000000
SUMMARY:DIGITAL FUTUREcongress
LOCATION:Congress Center Essen\, Messeplatz 1\, 45131 Essen
ORGANIZER:eco
URL:https://www.eco.de/event/digital-futurecongress-2/
DESCRIPTION:DIGITAL FUTUREcongress
END:VEVENT
END:VCALENDAR
