BEGIN:VCALENDAR
VERSION:2.0
PRODID:https://www.eco.de/event/glasfaserausbau-fuer-ein-digitales-deutschland/
BEGIN:VEVENT
UID:68776
DTSTAMP:20260420T190403
DTSTART:20180918T110000
DTEND:20180918T160000
SUMMARY:Glasfaserausbau für ein Digitales Deutschland
LOCATION:DE-CIX Meeting Center\, Lindleystraße 12\, 60314 Frankfurt am Main
ORGANIZER:eco
URL:https://www.eco.de/event/glasfaserausbau-fuer-ein-digitales-deutschland/
DESCRIPTION:Glasfaserausbau für ein Digitales Deutschland
END:VEVENT
END:VCALENDAR
