BEGIN:VCALENDAR
VERSION:2.0
PRODID:https://www.eco.de/event/datacenter-day-2018/
BEGIN:VEVENT
UID:72448
DTSTAMP:20260420T153646
DTSTART:20181023T083000
DTEND:20181023T180000
SUMMARY:Datacenter Day 2018
LOCATION:VCC Vogel Convention Center\, Max-Planck-Straße 7-9\, 97082 Würzburg
ORGANIZER:eco
URL:https://www.eco.de/event/datacenter-day-2018/
DESCRIPTION:Datacenter Day 2018
END:VEVENT
END:VCALENDAR
