BEGIN:VCALENDAR
VERSION:2.0
PRODID:https://www.eco.de/event/global-carrier-community-meeting-gccm-2015/
BEGIN:VEVENT
UID:7544
DTSTAMP:20260426T023305
DTSTART:20150629T000000
DTEND:20150630T000000
SUMMARY:Global Carrier Community Meeting GCCM 2015
LOCATION:
ORGANIZER:eco
URL:https://www.eco.de/event/global-carrier-community-meeting-gccm-2015/
DESCRIPTION:Global Carrier Community Meeting GCCM 2015
END:VEVENT
END:VCALENDAR
