BEGIN:VCALENDAR
VERSION:2.0
PRODID:https://www.eco.de/event/gdpr-for-the-domain-industry-after-the-playbook-a-workshop/
BEGIN:VEVENT
UID:76166
DTSTAMP:20260421T230851
DTSTART:20181025T120000
DTEND:20181025T133000
SUMMARY:GDPR For The Domain Industry After the Playbook – A Workshop
LOCATION:Room 114 (ccNSO) – Centre de Convencions Internacional de Barcelona (CCIB)\, Willy Brandt Square 11-14\, 08019 Barcelona
ORGANIZER:eco
URL:https://www.eco.de/event/gdpr-for-the-domain-industry-after-the-playbook-a-workshop/
DESCRIPTION:GDPR For The Domain Industry After the Playbook – A Workshop
END:VEVENT
END:VCALENDAR
