BEGIN:VCALENDAR
VERSION:2.0
PRODID:https://www.eco.de/event/econnect-on-tour-4/
BEGIN:VEVENT
UID:7659
DTSTAMP:20260426T041058
DTSTART:20150624T000000
DTEND:20150625T000000
SUMMARY:econnect on Tour – 2015
LOCATION:
ORGANIZER:eco
URL:https://www.eco.de/event/econnect-on-tour-4/
DESCRIPTION:econnect on Tour – 2015
END:VEVENT
END:VCALENDAR
