BEGIN:VCALENDAR
VERSION:2.0
PRODID:https://www.eco.de/event/workshop-blauer-engel-fuer-colocation-betreiber/
BEGIN:VEVENT
UID:77560
DTSTAMP:20260420T112051
DTSTART:20181126T130000
DTEND:20181126T170000
SUMMARY:Workshop: Blauer Engel für Colocation-Betreiber
LOCATION:DE-CIX Meeting Center\, Lindleystraße 12\, 60314 Frankfurt am Main
ORGANIZER:eco
URL:https://www.eco.de/event/workshop-blauer-engel-fuer-colocation-betreiber/
DESCRIPTION:Workshop: Blauer Engel für Colocation-Betreiber
END:VEVENT
END:VCALENDAR
