BEGIN:VCALENDAR
VERSION:2.0
PRODID:https://www.eco.de/event/hostingcon-europe-2015-2/
BEGIN:VEVENT
UID:7877
DTSTAMP:20260425T205035
DTSTART:20150922T000000
DTEND:20260425T205035
SUMMARY:hostingcon europe 2015
LOCATION:
ORGANIZER:eco
URL:https://www.eco.de/event/hostingcon-europe-2015-2/
DESCRIPTION:hostingcon europe 2015
END:VEVENT
END:VCALENDAR
