BEGIN:VCALENDAR
VERSION:2.0
PRODID:https://www.eco.de/event/php-ruhr-2015/
BEGIN:VEVENT
UID:8082
DTSTAMP:20260425T140054
DTSTART:20151105T000000
DTEND:20260425T140054
SUMMARY:PHP.RUHR 2015
LOCATION:Universität Witten/Herdecke\, Alfred-Herrhausen-Straße 44\, 58455 Witten
ORGANIZER:eco
URL:https://www.eco.de/event/php-ruhr-2015/
DESCRIPTION:PHP.RUHR 2015
END:VEVENT
END:VCALENDAR
