BEGIN:VCALENDAR
VERSION:2.0
PRODID:https://www.eco.de/event/xenith-dinner/
BEGIN:VEVENT
UID:8129
DTSTAMP:20260426T003905
DTSTART:20150910T000000
DTEND:20260426T003905
SUMMARY:XENITH DINNER
LOCATION:
ORGANIZER:eco
URL:https://www.eco.de/event/xenith-dinner/
DESCRIPTION:XENITH DINNER
END:VEVENT
END:VCALENDAR
