BEGIN:VCALENDAR
VERSION:2.0
PRODID:https://www.eco.de/event/3-deutscher-rechenzentrumstag/
BEGIN:VEVENT
UID:8139
DTSTAMP:20260425T205139
DTSTART:20150917T000000
DTEND:20260425T205139
SUMMARY:3. Deutscher Rechenzentrumstag
LOCATION:
ORGANIZER:eco
URL:https://www.eco.de/event/3-deutscher-rechenzentrumstag/
DESCRIPTION:3. Deutscher Rechenzentrumstag
END:VEVENT
END:VCALENDAR
