BEGIN:VCALENDAR
VERSION:2.0
PRODID:https://www.eco.de/event/open-xchange-summit-2015-3/
BEGIN:VEVENT
UID:8149
DTSTAMP:20260425T190741
DTSTART:20151008T000000
DTEND:20151009T000000
SUMMARY:OPEN-XCHANGE SUMMIT 2015
LOCATION:
ORGANIZER:eco
URL:https://www.eco.de/event/open-xchange-summit-2015-3/
DESCRIPTION:OPEN-XCHANGE SUMMIT 2015
END:VEVENT
END:VCALENDAR
