BEGIN:VCALENDAR
VERSION:2.0
PRODID:https://www.eco.de/event/data-centre-world-2015/
BEGIN:VEVENT
UID:8156
DTSTAMP:20260425T113306
DTSTART:20151110T000000
DTEND:20151111T000000
SUMMARY:DATA CENTRE WORLD 2015
LOCATION:
ORGANIZER:eco
URL:https://www.eco.de/event/data-centre-world-2015/
DESCRIPTION:DATA CENTRE WORLD 2015
END:VEVENT
END:VCALENDAR
