BEGIN:VCALENDAR
VERSION:2.0
PRODID:https://www.eco.de/event/eco-neujahrsempfang-cocktailabend-2019/
BEGIN:VEVENT
UID:81634
DTSTAMP:20260423T170632
DTSTART:20190117T190000
DTEND:20190117T235500
SUMMARY:eco Neujahrsempfang & Cocktailabend 2019
LOCATION:eco – Verband der Internetwirtschaft e.V.\, Lichstraße 43i\, 50825 Köln
ORGANIZER:eco
URL:https://www.eco.de/event/eco-neujahrsempfang-cocktailabend-2019/
DESCRIPTION:eco Neujahrsempfang & Cocktailabend 2019
END:VEVENT
END:VCALENDAR
