BEGIN:VCALENDAR
VERSION:2.0
PRODID:https://www.eco.de/event/whd-local-amsterdam-2015-2/
BEGIN:VEVENT
UID:8303
DTSTAMP:20260426T041057
DTSTART:20150903T000000
DTEND:20260426T041057
SUMMARY:WHD.local Amsterdam 2015
LOCATION:
ORGANIZER:eco
URL:https://www.eco.de/event/whd-local-amsterdam-2015-2/
DESCRIPTION:WHD.local Amsterdam 2015
END:VEVENT
END:VCALENDAR
