BEGIN:VCALENDAR
VERSION:2.0
PRODID:https://www.eco.de/event/sind-wir-eine-kritische-infrastruktur-2/
BEGIN:VEVENT
UID:8309
DTSTAMP:20260426T005759
DTSTART:20150910T093000
DTEND:20260426T130000
SUMMARY:Sind wir eine Kritische Infrastruktur?
LOCATION:
ORGANIZER:eco
URL:https://www.eco.de/event/sind-wir-eine-kritische-infrastruktur-2/
DESCRIPTION:Sind wir eine Kritische Infrastruktur?
END:VEVENT
END:VCALENDAR
