BEGIN:VCALENDAR
VERSION:2.0
PRODID:https://www.eco.de/event/eureca-seminar-zur-oeffentlichen-beschaffung-umweltfreundlicher-innovativer-ikt-technologien/
BEGIN:VEVENT
UID:8363
DTSTAMP:20260425T191646
DTSTART:20150929T000000
DTEND:20260425T191646
SUMMARY:EURECA-Seminar: Öffentliche Beschaffung umweltfreundlicher\, innovativer IKT-Technologien
LOCATION:
ORGANIZER:eco
URL:https://www.eco.de/event/eureca-seminar-zur-oeffentlichen-beschaffung-umweltfreundlicher-innovativer-ikt-technologien/
DESCRIPTION:EURECA-Seminar: Öffentliche Beschaffung umweltfreundlicher\, innovativer IKT-Technologien
END:VEVENT
END:VCALENDAR
