BEGIN:VCALENDAR
VERSION:2.0
PRODID:https://www.eco.de/event/ovh-world-tour/
BEGIN:VEVENT
UID:8389
DTSTAMP:20260425T154058
DTSTART:20151015T000000
DTEND:20260425T154058
SUMMARY:OVH World Tour
LOCATION:
ORGANIZER:eco
URL:https://www.eco.de/event/ovh-world-tour/
DESCRIPTION:OVH World Tour
END:VEVENT
END:VCALENDAR
