BEGIN:VCALENDAR
VERSION:2.0
PRODID:https://www.eco.de/event/emv-in-gebaeuden-und-voraussetzung-der-dguv-v3/
BEGIN:VEVENT
UID:8485
DTSTAMP:20260425T172856
DTSTART:20151013T000000
DTEND:20151014T000000
SUMMARY:EMV in Gebäuden und Voraussetzung der DGUV V3
LOCATION:
ORGANIZER:eco
URL:https://www.eco.de/event/emv-in-gebaeuden-und-voraussetzung-der-dguv-v3/
DESCRIPTION:EMV in Gebäuden und Voraussetzung der DGUV V3
END:VEVENT
END:VCALENDAR
