BEGIN:VCALENDAR
VERSION:2.0
PRODID:https://www.eco.de/event/street-skills-first-zeit-fuer-einen-change/
BEGIN:VEVENT
UID:8539
DTSTAMP:20260425T113451
DTSTART:20151112T140000
DTEND:20260425T190000
SUMMARY:Street Skills First  – Zeit für einen Change
LOCATION:
ORGANIZER:eco
URL:https://www.eco.de/event/street-skills-first-zeit-fuer-einen-change/
DESCRIPTION:Street Skills First  – Zeit für einen Change
END:VEVENT
END:VCALENDAR
