BEGIN:VCALENDAR
VERSION:2.0
PRODID:https://www.eco.de/event/what-the-hack/
BEGIN:VEVENT
UID:8685
DTSTAMP:20260425T222853
DTSTART:20150915T193000
DTEND:20260425T222853
SUMMARY:What the Hack!
LOCATION:
ORGANIZER:eco
URL:https://www.eco.de/event/what-the-hack/
DESCRIPTION:What the Hack!
END:VEVENT
END:VCALENDAR
