BEGIN:VCALENDAR
VERSION:2.0
PRODID:https://www.eco.de/event/datacloud-nordic-2015/
BEGIN:VEVENT
UID:8690
DTSTAMP:20260425T172856
DTSTART:20151015T000000
DTEND:20260425T172856
SUMMARY:DATACLOUD  NORDIC 2015
LOCATION:
ORGANIZER:eco
URL:https://www.eco.de/event/datacloud-nordic-2015/
DESCRIPTION:DATACLOUD  NORDIC 2015
END:VEVENT
END:VCALENDAR
