BEGIN:VCALENDAR
VERSION:2.0
PRODID:https://www.eco.de/event/cloud-expo-europe-frankfurt/
BEGIN:VEVENT
UID:8765
DTSTAMP:20260425T134515
DTSTART:20151110T000000
DTEND:20151111T000000
SUMMARY:Cloud Expo Europe Frankfurt
LOCATION:
ORGANIZER:eco
URL:https://www.eco.de/event/cloud-expo-europe-frankfurt/
DESCRIPTION:Cloud Expo Europe Frankfurt
END:VEVENT
END:VCALENDAR
