BEGIN:VCALENDAR
VERSION:2.0
PRODID:https://www.eco.de/event/blackout-vorbereitung-fuer-den-ernstfall/
BEGIN:VEVENT
UID:87947
DTSTAMP:20260425T123309
DTSTART:20190321T120000
DTEND:20190321T160000
SUMMARY:Blackout - Vorbereitung für den Ernstfall
LOCATION:eco Kubus\, Lichtstrasse 43i\, 50825 Köln
ORGANIZER:eco
URL:https://www.eco.de/event/blackout-vorbereitung-fuer-den-ernstfall/
DESCRIPTION:Blackout - Vorbereitung für den Ernstfall
END:VEVENT
END:VCALENDAR
