BEGIN:VCALENDAR
VERSION:2.0
PRODID:https://www.eco.de/event/it-media-future-congress-2-2/
BEGIN:VEVENT
UID:8891
DTSTAMP:20260425T025212
DTSTART:20160211T000000
DTEND:20260425T025212
SUMMARY:IT & Media Future Congress
LOCATION:Wissenschafts- und Kongresszentrum\, Schlossgraben 1\, 64283 Darmstadt
ORGANIZER:eco
URL:https://www.eco.de/event/it-media-future-congress-2-2/
DESCRIPTION:IT & Media Future Congress
END:VEVENT
END:VCALENDAR
